BEGIN:VCALENDAR
VERSION:2.0
PRODID:-//hacksw/handcal//NONSGML v1.0//EN
BEGIN:VEVENT
UID:be4fa190dbbf6f426bafb6719d6e817b
DTSTAMP:20260424T191137Z

DTSTART:20220422T100000
DTEND:20220422T100000
SUMMARY:Project Management and Supervision: Historic and Traditional Buildings- 1 Day Course 
DESCRIPTION:Although the basics of project management remain the same, the management and supervision of work on historic and traditional buildings poses different problems compared to modern or new structures. This 1-day course will cover the pertinent issues concerning historic and traditional buildings, and best practice for build quality strategies and processes. At the end of the day, you will be confident in your ability to successfully deploy project management and supervision to historic and traditional buildings.\n 

X-ALT-DESC;FMTTYPE=text/html:<!DOCTYPE HTML PUBLIC "-//W3C//DTD HTML 3.2//EN">\n<HTML>\n<HEAD>\n<META NAME="Generator" CONTENT="MS Exchange Server version 08.00.0681.000">\n<TITLE></TITLE>\n</HEAD>\n<BODY>\n<!-- Converted from text/rtf format -->\n\nAlthough the basics of project management remain the same, the management and supervision of work on historic and traditional buildings poses different problems compared to modern or new structures. This 1-day course will cover the pertinent issues concerning historic and traditional buildings, and best practice for build quality strategies and processes. At the end of the day, you will be confident in your ability to successfully deploy project management and supervision to historic and traditional buildings.<br /> \n\n</BODY>\n</HTML>

LOCATION:
END:VEVENT

END:VCALENDAR
