BEGIN:VCALENDAR
VERSION:2.0
PRODID:-//hacksw/handcal//NONSGML v1.0//EN
BEGIN:VEVENT
UID:f035ea22c6e4cbfb125735dc50a7f7a6
DTSTAMP:20260424T190840Z

DTSTART:20240627T090000
DTEND:20240628T170000
SUMMARY:A Future for Historic Windows - Conference - 27th & 28th June
DESCRIPTION:The push to insulate our homes due to the rising cost of energy, but also the challenge of climate change, is rightly pointing a spotlight on draughty single-glazed sash and casement windows.\n\nThis two-day conference and evening gathering, supported by SPAB and The Green Register, brings together experts in the history, repair and retrofit of historic windows, and the design and manufacture of new joinery. It will be of interest to anyone in the heritage sector who would like to join the debate and understand more.\n\nUnderstanding the history and significance of windows\nClues for dating windows based on physical evidence\nHistoric glass and modern glazing systems\nSpecifying repair, and paint finishes\nThe science of heat loss and retrofitting existing windows\nJustifying the case for replacement, and looking at the options\n\nThe event will feature a wide cross-section of presentations by 30 specialists from across the UK and Europe.\nA number of sponsors will also be exhibiting and demonstrating their services and products.

X-ALT-DESC;FMTTYPE=text/html:<!DOCTYPE HTML PUBLIC "-//W3C//DTD HTML 3.2//EN">\n<HTML>\n<HEAD>\n<META NAME="Generator" CONTENT="MS Exchange Server version 08.00.0681.000">\n<TITLE></TITLE>\n</HEAD>\n<BODY>\n<!-- Converted from text/rtf format -->\n\nThe push to insulate our homes due to the rising cost of energy, but also the challenge of climate change, is rightly pointing a spotlight on draughty single-glazed sash and casement windows.<br /><br />This two-day conference and evening gathering, supported by SPAB and The Green Register, brings together experts in the history, repair and retrofit of historic windows, and the design and manufacture of new joinery. It will be of interest to anyone in the heritage sector who would like to join the debate and understand more.<br /><br />Understanding the history and significance of windows<br />Clues for dating windows based on physical evidence<br />Historic glass and modern glazing systems<br />Specifying repair, and paint finishes<br />The science of heat loss and retrofitting existing windows<br />Justifying the case for replacement, and looking at the options<br /><br />The event will feature a wide cross-section of presentations by 30 specialists from across the UK and Europe.<br />A number of sponsors will also be exhibiting and demonstrating their services and products.\n\n</BODY>\n</HTML>

LOCATION:Stroud Rd, Cirencester GL7 6JS, UK
END:VEVENT

END:VCALENDAR
