BEGIN:VCALENDAR
VERSION:2.0
PRODID:-//hacksw/handcal//NONSGML v1.0//EN
BEGIN:VEVENT
UID:b0258358d5134b13163994e1237a0945
DTSTAMP:20260424T203205Z

DTSTART:20230223T190000
DTEND:20230223T210000
SUMMARY:Investigating Mediaeval Churches
DESCRIPTION:Mediaeval parish churches are some of the oldest and most loved buildings in the British Isles. However, relatively few of them have been archaeologically surveyed and many unverified stories have grown up around them. This talk will look at some of the commonly repeated tales about the architecture of churches, which are widely assumed to be true, but which ultimately fall into the realm of folklore and myth.\n\nThese stories include doorways apparently blocked to keep the Devil out, churches alleged to be aligned to the sunrise on their saint's day and windows said to allow lepers to watch the mass. These are tales repeated in good faith but are not based in the lived reality of the mediaeval world. Instead, we will look at the how churches were used before the Reformation. By applying contextual archaeological and historical evidence the architectural functions of churches will be investigated and unlocked.\n\nThe speaker, James Wright (Triskele Heritage), is an award winning buildings archaeologist. He has two decades professional experience of ferreting around in people’s cellars, hunting through their attics and digging up their gardens. He hopes to find meaningful truths about how ordinary and extraordinary folk lived their lives in the mediaeval period. He is the author of the popular Mediaeval Mythbusting Blog.\n\nThis lecture is crowdfunded through donation. It will be the debut of a new bespoke talk. There is no minimum donation so it is possible to contribute as little or as much as you want. Your donation is your ticket and you will be sent a link to access the event by Eventbrite.\n\nPlease note that this live event will not be recorded and made available online afterwards.\n\nIf you have a question about the event – in the first instance please see our FAQs section. The answer will almost certainly be in there.\n\n*** If you have any problems accessing the events please email with your booking reference to james@triskeleheritage.com ***

X-ALT-DESC;FMTTYPE=text/html:<!DOCTYPE HTML PUBLIC "-//W3C//DTD HTML 3.2//EN">\n<HTML>\n<HEAD>\n<META NAME="Generator" CONTENT="MS Exchange Server version 08.00.0681.000">\n<TITLE></TITLE>\n</HEAD>\n<BODY>\n<!-- Converted from text/rtf format -->\n\nMediaeval parish churches are some of the oldest and most loved buildings in the British Isles. However, relatively few of them have been archaeologically surveyed and many unverified stories have grown up around them. This talk will look at some of the commonly repeated tales about the architecture of churches, which are widely assumed to be true, but which ultimately fall into the realm of folklore and myth.<br /><br />These stories include doorways apparently blocked to keep the Devil out, churches alleged to be aligned to the sunrise on their saint's day and windows said to allow lepers to watch the mass. These are tales repeated in good faith but are not based in the lived reality of the mediaeval world. Instead, we will look at the how churches were used before the Reformation. By applying contextual archaeological and historical evidence the architectural functions of churches will be investigated and unlocked.<br /><br />The speaker, James Wright (Triskele Heritage), is an award winning buildings archaeologist. He has two decades professional experience of ferreting around in people’s cellars, hunting through their attics and digging up their gardens. He hopes to find meaningful truths about how ordinary and extraordinary folk lived their lives in the mediaeval period. He is the author of the popular Mediaeval Mythbusting Blog.<br /><br />This lecture is crowdfunded through donation. It will be the debut of a new bespoke talk. There is no minimum donation so it is possible to contribute as little or as much as you want. Your donation is your ticket and you will be sent a link to access the event by Eventbrite.<br /><br />Please note that this live event will not be recorded and made available online afterwards.<br /><br />If you have a question about the event – in the first instance please see our FAQs section. The answer will almost certainly be in there.<br /><br />*** If you have any problems accessing the events please email with your booking reference to james@triskeleheritage.com ***\n\n</BODY>\n</HTML>

LOCATION:
END:VEVENT

END:VCALENDAR
