BEGIN:VCALENDAR
VERSION:2.0
PRODID:-//hacksw/handcal//NONSGML v1.0//EN
BEGIN:VEVENT
UID:7a3fd9f1ffbe4558f963bde617195304
DTSTAMP:20260424T190754Z

DTSTART:20230228T100000
DTEND:20230228T130000
SUMMARY:Traditional Tuck Pointing
DESCRIPTION:About this course: This three hour information session is suitable for anyone with an interest in the traditional craft of tuck pointing.  The session will focus on tuck pointing in historic buildings and will include a walk to examine examples at The Historic Dockyard, Chatham as well as a demonstration of the process.\n\n9.45am: Registration\n\n10am-1pm: Session\n\nThere will be a coffee break\n\nAbout the tutor: Charles Reilly is a highly experienced craftsman with a passion for repairing heritage brick buildings. As the managing director of Georgian Brickwork Charles leads a small team of specialist bricklayers in Kent. Georgian Brickwork focuses on using traditional methods and materials to repair and restore listed and period properties. Charles started developing his training programme in 2016 to ensure that his knowledge and skills are passed on to the next generation of bricklayers. More recently he has begun to offer a wider programme of courses to anyone with an interest in heritage brickwork.\nWho is this course for?\n\nThis course is for anyone with an interest in heritage brickwork and the specialist craft of Tuck pointing, no prior experience or trowel skills needed\n\nIf you are a bricklayer and want to learn how to Tuck Point please book a place on Traditional Tuck Pointing GBB2\nHow will I be taught?\n\nCourses for heritage professionals, homeowners and those with an interest in the conservation of heritage brickwork take place in groups of between 5/10 people depending on the topic. The focus of these sessions is on informing and awareness raising. Many sessions also include a demonstration of a practical skill with opportunities to ask questions and discuss problems.\nWhat do I need to bring with me?\n\nWe provide:\n\n    All tools and training materials\n    Tea & Coffee\n    H&S equipment such as safety goggles and gloves -but you may bring your own if you prefer.\n\nYou need to:\n\n    Wear practical comfortable clothes\n    Wear practical protective footwear\n    Bring a notepad and pen -if you want to make notes\n    Lunch is available to buy from one of The Historic Dockyard eateries. Or you can bring your own lunch and there are outdoor spaces to eat such as the Commissioner’s Garden or the Tennis Court Lawn. For more information visit https://thedockyard.co.uk/plan-your-visit/food-drink/\n

X-ALT-DESC;FMTTYPE=text/html:<!DOCTYPE HTML PUBLIC "-//W3C//DTD HTML 3.2//EN">\n<HTML>\n<HEAD>\n<META NAME="Generator" CONTENT="MS Exchange Server version 08.00.0681.000">\n<TITLE></TITLE>\n</HEAD>\n<BODY>\n<!-- Converted from text/rtf format -->\n\nAbout this course: This three hour information session is suitable for anyone with an interest in the traditional craft of tuck pointing.  The session will focus on tuck pointing in historic buildings and will include a walk to examine examples at The Historic Dockyard, Chatham as well as a demonstration of the process.<br /><br />9.45am: Registration<br /><br />10am-1pm: Session<br /><br />There will be a coffee break<br /><br />About the tutor: Charles Reilly is a highly experienced craftsman with a passion for repairing heritage brick buildings. As the managing director of Georgian Brickwork Charles leads a small team of specialist bricklayers in Kent. Georgian Brickwork focuses on using traditional methods and materials to repair and restore listed and period properties. Charles started developing his training programme in 2016 to ensure that his knowledge and skills are passed on to the next generation of bricklayers. More recently he has begun to offer a wider programme of courses to anyone with an interest in heritage brickwork.<br />Who is this course for?<br /><br />This course is for anyone with an interest in heritage brickwork and the specialist craft of Tuck pointing, no prior experience or trowel skills needed<br /><br />If you are a bricklayer and want to learn how to Tuck Point please book a place on Traditional Tuck Pointing GBB2<br />How will I be taught?<br /><br />Courses for heritage professionals, homeowners and those with an interest in the conservation of heritage brickwork take place in groups of between 5/10 people depending on the topic. The focus of these sessions is on informing and awareness raising. Many sessions also include a demonstration of a practical skill with opportunities to ask questions and discuss problems.<br />What do I need to bring with me?<br /><br />We provide:<br /><br />    All tools and training materials<br />    Tea & Coffee<br />    H&S equipment such as safety goggles and gloves -but you may bring your own if you prefer.<br /><br />You need to:<br /><br />    Wear practical comfortable clothes<br />    Wear practical protective footwear<br />    Bring a notepad and pen -if you want to make notes<br />    Lunch is available to buy from one of The Historic Dockyard eateries. Or you can bring your own lunch and there are outdoor spaces to eat such as the Commissioner’s Garden or the Tennis Court Lawn. For more information visit https://thedockyard.co.uk/plan-your-visit/food-drink/<br />\n\n</BODY>\n</HTML>

LOCATION:Unit 6 Craft Workshops The Historic Dockyard, Chatham ME4 4TZ, UK
END:VEVENT

END:VCALENDAR
