BEGIN:VCALENDAR
VERSION:2.0
PRODID:-//hacksw/handcal//NONSGML v1.0//EN
BEGIN:VEVENT
UID:1a482cd127a6e62b6bfe5bcffb12d40a
DTSTAMP:20260424T190756Z

DTSTART:20230110T090000
DTEND:20230113T160000
SUMMARY:Traditional Tuck Pointing
DESCRIPTION:This four-day professional development workshop is suitable for experienced heritage bricklayers with an interest in developing their knowledge and skill in traditional craft of tuck pointing.  The sessions will cover making a Frenchman Tool, the methods and materials for colour washing the brickwork, applying the stopping, and creating finish with the putty ribbon.

X-ALT-DESC;FMTTYPE=text/html:<!DOCTYPE HTML PUBLIC "-//W3C//DTD HTML 3.2//EN">\n<HTML>\n<HEAD>\n<META NAME="Generator" CONTENT="MS Exchange Server version 08.00.0681.000">\n<TITLE></TITLE>\n</HEAD>\n<BODY>\n<!-- Converted from text/rtf format -->\n\nThis four-day professional development workshop is suitable for experienced heritage bricklayers with an interest in developing their knowledge and skill in traditional craft of tuck pointing.  The sessions will cover making a Frenchman Tool, the methods and materials for colour washing the brickwork, applying the stopping, and creating finish with the putty ribbon.\n\n</BODY>\n</HTML>

LOCATION:Chatham Historic Dockyard, Chatham ME4 4TZ, UK
END:VEVENT

END:VCALENDAR
