BEGIN:VCALENDAR
VERSION:2.0
PRODID:-//hacksw/handcal//NONSGML v1.0//EN
BEGIN:VEVENT
UID:5b38e02352233ebd82474f1ba2121142
DTSTAMP:20260420T190531Z

DTSTART:20220412T083000
DTEND:20220412T140000
SUMMARY:Traditional Brickworks Tour and Guided Walk
DESCRIPTION:A rare opportunity to visit Bulmer Brick and Tile Company's brickworks, one of only a handful of surviving traditional brickworks in the country. Participants will be able to see how traditional bricks are hand-made. The course will also include a tour of the historic buildings of nearby Long Melford, Sudbury. 

X-ALT-DESC;FMTTYPE=text/html:<!DOCTYPE HTML PUBLIC "-//W3C//DTD HTML 3.2//EN">\n<HTML>\n<HEAD>\n<META NAME="Generator" CONTENT="MS Exchange Server version 08.00.0681.000">\n<TITLE></TITLE>\n</HEAD>\n<BODY>\n<!-- Converted from text/rtf format -->\n\nA rare opportunity to visit Bulmer Brick and Tile Company's brickworks, one of only a handful of surviving traditional brickworks in the country. Participants will be able to see how traditional bricks are hand-made. The course will also include a tour of the historic buildings of nearby Long Melford, Sudbury. \n\n</BODY>\n</HTML>

LOCATION:Bulmer, Sudbury CO10, UK
END:VEVENT

END:VCALENDAR
