BEGIN:VCALENDAR
VERSION:2.0
PRODID:-//hacksw/handcal//NONSGML v1.0//EN
BEGIN:VEVENT
UID:0338517994b4555a8926577fa202a488
DTSTAMP:20260420T222903Z

DTSTART:20220404T230000
DTEND:20220404T230000
SUMMARY:Industrial Heritage Course
DESCRIPTION:This course is aimed at anyone interested in industrial heritage and architecture, or those who are currently involved in the conservation or sustainable reuse of this typology. The mini-conference will provide insight into a range of industrial typologies across Essex. This course will be held at the East Anglian Railway Museum, part of the branch line from Marks Tey to Sudbury which crosses the impressive Chappel viaduct.

X-ALT-DESC;FMTTYPE=text/html:<!DOCTYPE HTML PUBLIC "-//W3C//DTD HTML 3.2//EN">\n<HTML>\n<HEAD>\n<META NAME="Generator" CONTENT="MS Exchange Server version 08.00.0681.000">\n<TITLE></TITLE>\n</HEAD>\n<BODY>\n<!-- Converted from text/rtf format -->\n\nThis course is aimed at anyone interested in industrial heritage and architecture, or those who are currently involved in the conservation or sustainable reuse of this typology. The mini-conference will provide insight into a range of industrial typologies across Essex. This course will be held at the East Anglian Railway Museum, part of the branch line from Marks Tey to Sudbury which crosses the impressive Chappel viaduct.\n\n</BODY>\n</HTML>

LOCATION:Station Rd, Wakes Colne, Colchester CO6 2DS, UK
END:VEVENT

END:VCALENDAR
