BEGIN:VCALENDAR
VERSION:2.0
PRODID:-//hacksw/handcal//NONSGML v1.0//EN
BEGIN:VEVENT
UID:b2bf99ff9973fb3d6f559028c96082d8
DTSTAMP:20260424T205403Z

DTSTART:20220422T110000
DTEND:20220422T110000
SUMMARY:Inform Friday: Micro Renewables in the Historic Environment
DESCRIPTION:From heat pumps to solar panels and power generation, micro renewables will be playing a larger part in the future as we move towards net zero. But what does that mean for Scotland's older buildings and homes?\n\nWe are dedicating a whole Inform Friday session to micro renewables in the historic environment after your many questions.\n\nFor traditional buildings, there are special considerations about these technologies. Learn more about how they can be integrated into older buildings in Scotland.\n\nHistoric Environment Scotland experts Roger Curtis and Kenney Easson will give you an overview of micro renewables in the historic environment. You'll have the chance to ask any questions you have live, or submit a question in advance by emailing technicalresearch@hes.scot.\n\nNo prior knowledge needed, we will cover the basics.\n\nHow to watch\n\nThe livestream event will be streamed for free on the Engine Shed Facebook page and Historic Environment Scotland YouTube channel starting at 12 noon. Make sure you’re logged in if you'd like to join the chat and ask questions.\n\nWe'll update this event listing with the livestream links a few days before so you can save them in advance, if you need to.\n\nThere's no need to book or register.\n\nCan’t make it? You’ll be able to watch the full recording after on Facebook and YouTube.

X-ALT-DESC;FMTTYPE=text/html:<!DOCTYPE HTML PUBLIC "-//W3C//DTD HTML 3.2//EN">\n<HTML>\n<HEAD>\n<META NAME="Generator" CONTENT="MS Exchange Server version 08.00.0681.000">\n<TITLE></TITLE>\n</HEAD>\n<BODY>\n<!-- Converted from text/rtf format -->\n\nFrom heat pumps to solar panels and power generation, micro renewables will be playing a larger part in the future as we move towards net zero. But what does that mean for Scotland's older buildings and homes?<br /><br />We are dedicating a whole Inform Friday session to micro renewables in the historic environment after your many questions.<br /><br />For traditional buildings, there are special considerations about these technologies. Learn more about how they can be integrated into older buildings in Scotland.<br /><br />Historic Environment Scotland experts Roger Curtis and Kenney Easson will give you an overview of micro renewables in the historic environment. You'll have the chance to ask any questions you have live, or submit a question in advance by emailing technicalresearch@hes.scot.<br /><br />No prior knowledge needed, we will cover the basics.<br /><br />How to watch<br /><br />The livestream event will be streamed for free on the Engine Shed Facebook page and Historic Environment Scotland YouTube channel starting at 12 noon. Make sure you’re logged in if you'd like to join the chat and ask questions.<br /><br />We'll update this event listing with the livestream links a few days before so you can save them in advance, if you need to.<br /><br />There's no need to book or register.<br /><br />Can’t make it? You’ll be able to watch the full recording after on Facebook and YouTube.\n\n</BODY>\n</HTML>

LOCATION:
END:VEVENT

END:VCALENDAR
