BEGIN:VCALENDAR
VERSION:2.0
PRODID:-//hacksw/handcal//NONSGML v1.0//EN
BEGIN:VEVENT
UID:fbc7c3aad69d8725a93b05f23c20b957
DTSTAMP:20260424T190846Z

DTSTART:20230107T000000
DTEND:20230107T000000
SUMMARY:Winter Conference - Trans-National Connections
DESCRIPTION:Vernacular Architecture in Britain and Beyond. This conference looks at the connections between architecture in Britain and patterns of building in Europe, Scandinavia and across the Atlantic. Speakers will address the theme of building traditions in Britain and their relationship to patterns elsewhere. 

X-ALT-DESC;FMTTYPE=text/html:<!DOCTYPE HTML PUBLIC "-//W3C//DTD HTML 3.2//EN">\n<HTML>\n<HEAD>\n<META NAME="Generator" CONTENT="MS Exchange Server version 08.00.0681.000">\n<TITLE></TITLE>\n</HEAD>\n<BODY>\n<!-- Converted from text/rtf format -->\n\nVernacular Architecture in Britain and Beyond. This conference looks at the connections between architecture in Britain and patterns of building in Europe, Scandinavia and across the Atlantic. Speakers will address the theme of building traditions in Britain and their relationship to patterns elsewhere. \n\n</BODY>\n</HTML>

LOCATION:University Rd, Leicester LE1 7RH, UK
END:VEVENT

END:VCALENDAR
