BEGIN:VCALENDAR
VERSION:2.0
PRODID:-//hacksw/handcal//NONSGML v1.0//EN
BEGIN:VEVENT
UID:cb34d68c45b8c7aa34e9ca85f8b84a35
DTSTAMP:20260424T191011Z

DTSTART:20240116T180000
DTEND:20240116T193000
SUMMARY:Post War Hospitals
DESCRIPTION:Harriet Richardson Blakeman is a PhD student funded by the AHRC’s Doctoral Training Partnership. She worked at the National Monuments Record of Scotland in 1988-9, before embarking on a survey of Scottish Hospitals on a two-year project funded by the Scottish Research Council, which resulted in the publication of Building up our Health: the architecture of Scotland’s historic hospitals, (2010). In her lecture, Harriet will survey key examples of post-war hospitals, reflecting on the significance of this building type and also some of the reasons why they are underappreciated.

X-ALT-DESC;FMTTYPE=text/html:<!DOCTYPE HTML PUBLIC "-//W3C//DTD HTML 3.2//EN">\n<HTML>\n<HEAD>\n<META NAME="Generator" CONTENT="MS Exchange Server version 08.00.0681.000">\n<TITLE></TITLE>\n</HEAD>\n<BODY>\n<!-- Converted from text/rtf format -->\n\nHarriet Richardson Blakeman is a PhD student funded by the AHRC’s Doctoral Training Partnership. She worked at the National Monuments Record of Scotland in 1988-9, before embarking on a survey of Scottish Hospitals on a two-year project funded by the Scottish Research Council, which resulted in the publication of Building up our Health: the architecture of Scotland’s historic hospitals, (2010). In her lecture, Harriet will survey key examples of post-war hospitals, reflecting on the significance of this building type and also some of the reasons why they are underappreciated.\n\n</BODY>\n</HTML>

LOCATION:Riddles Court, 322 Lawnmarket, Edinburgh EH1 2PG, UK
END:VEVENT

END:VCALENDAR
