BEGIN:VCALENDAR
VERSION:2.0
PRODID:-//hacksw/handcal//NONSGML v1.0//EN
BEGIN:VEVENT
UID:8ce4ba399469c000fff94b6e8ae2be7e
DTSTAMP:20260424T214228Z

DTSTART:20240117T180000
DTEND:20240117T190000
SUMMARY:Repeat Performance: Reimagining Historic Theatres
DESCRIPTION:Taking past and present examples of theatres at risk on SAVE's Buildings at Risk Register, Liz Fuller, our Buildings at Risk Officer will look at the ways in which historic theatres can be repurposed and how these wonderful buildings should be seen as valuable community assets.

X-ALT-DESC;FMTTYPE=text/html:<!DOCTYPE HTML PUBLIC "-//W3C//DTD HTML 3.2//EN">\n<HTML>\n<HEAD>\n<META NAME="Generator" CONTENT="MS Exchange Server version 08.00.0681.000">\n<TITLE></TITLE>\n</HEAD>\n<BODY>\n<!-- Converted from text/rtf format -->\n\nTaking past and present examples of theatres at risk on SAVE's Buildings at Risk Register, Liz Fuller, our Buildings at Risk Officer will look at the ways in which historic theatres can be repurposed and how these wonderful buildings should be seen as valuable community assets.\n\n</BODY>\n</HTML>

LOCATION:
END:VEVENT

END:VCALENDAR
