BEGIN:VCALENDAR
VERSION:2.0
PRODID:-//hacksw/handcal//NONSGML v1.0//EN
BEGIN:VEVENT
UID:3e8d98c067fbd7fa4f0bd4e42aa7607e
DTSTAMP:20260424T232832Z

DTSTART:20230208T190000
DTEND:20230208T203000
SUMMARY:Winter Online Talks 2023 - What did the Victorians ever do for Cork?
DESCRIPTION:The Victorian Society and Yale University Press are pleased to introduce a series of online talks by authors of recent or imminent volumes from all four of the national series, plus the Isle of Man. Our third talk takes us over to Ireland.\n\nA sweeping introduction to the buildings of Victorian Cork, exploring how essentially provincial architects responded to emerging architectural themes while revelling in the opportunities offered by its varied local building materials.\n\nFrank Keohane is an architectural historian and chartered building surveyor specialising in the conservation of historic buildings. A native of Cork, he is the author of The Buildings of Ireland Cork volume, published by Yale University Press in 2020 and Irish Period Houses: A Conservation Guidance Manual, published in 2016.\n\nAll attendees will be sent a recording of the talk.

X-ALT-DESC;FMTTYPE=text/html:<!DOCTYPE HTML PUBLIC "-//W3C//DTD HTML 3.2//EN">\n<HTML>\n<HEAD>\n<META NAME="Generator" CONTENT="MS Exchange Server version 08.00.0681.000">\n<TITLE></TITLE>\n</HEAD>\n<BODY>\n<!-- Converted from text/rtf format -->\n\nThe Victorian Society and Yale University Press are pleased to introduce a series of online talks by authors of recent or imminent volumes from all four of the national series, plus the Isle of Man. Our third talk takes us over to Ireland.<br /><br />A sweeping introduction to the buildings of Victorian Cork, exploring how essentially provincial architects responded to emerging architectural themes while revelling in the opportunities offered by its varied local building materials.<br /><br />Frank Keohane is an architectural historian and chartered building surveyor specialising in the conservation of historic buildings. A native of Cork, he is the author of The Buildings of Ireland Cork volume, published by Yale University Press in 2020 and Irish Period Houses: A Conservation Guidance Manual, published in 2016.<br /><br />All attendees will be sent a recording of the talk.\n\n</BODY>\n</HTML>

LOCATION:
END:VEVENT

END:VCALENDAR
