BEGIN:VCALENDAR
VERSION:2.0
PRODID:-//hacksw/handcal//NONSGML v1.0//EN
BEGIN:VEVENT
UID:8fdb437eac9818b76fd282c647a9bf95
DTSTAMP:20260424T191619Z

DTSTART:20230420T083000
DTEND:20230420T153000
SUMMARY:Conservation of Architectural Ironwork 2-day CPD – Bath
DESCRIPTION:Aimed at both craft practitioners and consultative professionals, this 2-day course held in the centre of the World Heritage City of Bath provides an introduction to the conservation of historic ironwork.\n\nLectures cover: historical context, metallurgy of wrought iron and steels, traditional tools, techniques, materials, design and manufacture, with a focus on the processes of restoration, surface preparation and treatments, specification & standards for heritage ironwork contracts, including a procurement and pricing exercise.\n\nThe lectures will be complemented by a walking tour & site visit to survey historic ironwork and develop a strategy for its conservation.\n\nAims of the day\n\nCourse tutors Geoff Wallis and Bethan Griffiths will guide you through the basic principles of assessing historic ironwork and making decisions about its care. Tender procedures often require the commissioner of the work to have knowledge of the medium in order to procure the best value. We aim to equip those wishing to commission work on listed ironwork with information they will find essential in the writing of specifications.\n\nCourse fee including lunches and course materials: £250\n\n

X-ALT-DESC;FMTTYPE=text/html:<!DOCTYPE HTML PUBLIC "-//W3C//DTD HTML 3.2//EN">\n<HTML>\n<HEAD>\n<META NAME="Generator" CONTENT="MS Exchange Server version 08.00.0681.000">\n<TITLE></TITLE>\n</HEAD>\n<BODY>\n<!-- Converted from text/rtf format -->\n\nAimed at both craft practitioners and consultative professionals, this 2-day course held in the centre of the World Heritage City of Bath provides an introduction to the conservation of historic ironwork.<br /><br />Lectures cover: historical context, metallurgy of wrought iron and steels, traditional tools, techniques, materials, design and manufacture, with a focus on the processes of restoration, surface preparation and treatments, specification & standards for heritage ironwork contracts, including a procurement and pricing exercise.<br /><br />The lectures will be complemented by a walking tour & site visit to survey historic ironwork and develop a strategy for its conservation.<br /><br />Aims of the day<br /><br />Course tutors Geoff Wallis and Bethan Griffiths will guide you through the basic principles of assessing historic ironwork and making decisions about its care. Tender procedures often require the commissioner of the work to have knowledge of the medium in order to procure the best value. We aim to equip those wishing to commission work on listed ironwork with information they will find essential in the writing of specifications.<br /><br />Course fee including lunches and course materials: £250<br /><br />\n\n</BODY>\n</HTML>

LOCATION:Julian Rd, Bath BA1 2RH, UK
END:VEVENT

END:VCALENDAR
