BEGIN:VCALENDAR
VERSION:2.0
PRODID:-//hacksw/handcal//NONSGML v1.0//EN
BEGIN:VEVENT
UID:c790115b0f93246302668c1a4cb124b7
DTSTAMP:20260425T032748Z

DTSTART:20220216T183000
DTEND:20220216T183000
SUMMARY:The cities of the dead: Italy’s monumental cemeteries of the nineteenth century
DESCRIPTION:A talk by Dr Hannah Malone\n\nItalians have a special relationship with their dead and that relationship gave shape to Italy’s modern cemeteries. Whereas until the late eighteenth century the dead had been buried in urban churches and graveyards, from the early 1800s, the prohibition of burial within cities across Europe led to the creation of new cemeteries, which were suburban, public, secular, and socially inclusive. Their importance reflected the celebration of death in an era of Romanticism and individualism. Particularly in Italy, many cities built new cemeteries that were unparalleled in their scale and grandeur. Although Romantic culture was widespread throughout Europe, Italy’s cemeteries of the nineteenth century were distinctive in that they were monumental rather than landscaped, and unique in their size and cost.\n\nDrawing on her monograph, Architecture, Death and Nationhood: Monumental Cemeteries of Nineteenth-Century Italy (Routledge, 2017), and discussed at the time in Mausolus, this talk will explore Italy’s monumental cemeteries as a distinctly Italian phenomenon. Dr Hannah Malone is based at the Max Planck Institute for Human Development, Centre for the History of Emotions in Berlin having previously studied at Magdalen College Cambridge.\n\nPrice: £5.00

X-ALT-DESC;FMTTYPE=text/html:<!DOCTYPE HTML PUBLIC "-//W3C//DTD HTML 3.2//EN">\n<HTML>\n<HEAD>\n<META NAME="Generator" CONTENT="MS Exchange Server version 08.00.0681.000">\n<TITLE></TITLE>\n</HEAD>\n<BODY>\n<!-- Converted from text/rtf format -->\n\nA talk by Dr Hannah Malone<br /><br />Italians have a special relationship with their dead and that relationship gave shape to Italy’s modern cemeteries. Whereas until the late eighteenth century the dead had been buried in urban churches and graveyards, from the early 1800s, the prohibition of burial within cities across Europe led to the creation of new cemeteries, which were suburban, public, secular, and socially inclusive. Their importance reflected the celebration of death in an era of Romanticism and individualism. Particularly in Italy, many cities built new cemeteries that were unparalleled in their scale and grandeur. Although Romantic culture was widespread throughout Europe, Italy’s cemeteries of the nineteenth century were distinctive in that they were monumental rather than landscaped, and unique in their size and cost.<br /><br />Drawing on her monograph, Architecture, Death and Nationhood: Monumental Cemeteries of Nineteenth-Century Italy (Routledge, 2017), and discussed at the time in Mausolus, this talk will explore Italy’s monumental cemeteries as a distinctly Italian phenomenon. Dr Hannah Malone is based at the Max Planck Institute for Human Development, Centre for the History of Emotions in Berlin having previously studied at Magdalen College Cambridge.<br /><br />Price: £5.00\n\n</BODY>\n</HTML>

LOCATION:
END:VEVENT

END:VCALENDAR
