BEGIN:VCALENDAR
VERSION:2.0
PRODID:-//hacksw/handcal//NONSGML v1.0//EN
BEGIN:VEVENT
UID:2716b85736b399a745fa8fa26b3780a9
DTSTAMP:20260420T221127Z

DTSTART:20230427T070000
DTEND:20230427T160000
SUMMARY:NW Branch – Adapting to Climate Change: Heritage and its Sustainable Future
DESCRIPTION:Adapting to Climate Change: Heritage and its Sustainable Future\n\n9:00-9:15 Welcome by The Dean of Chester Cathedral\n\n9:20-9:40 KEYNOTE Catherine Dewar\nHistoric England Climate Change Programme Director.\n\n9:45-10:10 Tony Barton\nCathedral Architect, Donald Insall Associates.\n\n10:15-10:40 Jane Entwistle, Care Accredited structural and civil engineer and President of the Institute of Structural Engineers.\n\n10:40-10:50 Q&A .\n\n10:50-11:20 Coffee Break.\n\n11:20-11:45 Carbon Co-op\nCommunity organization .\n\n11:50-12:15 Morwenna Slade, Head of Historic England Climate Change.\n\n12.:15-12:30 Q&A\n\n12:30-13:30 Lunch\n\n13:35 -15:30 Tours\nTower and Roof of the Cathedral, and Climate Change Group Workshop.\n\n15:35-15:55 Cordula Zeidler Practice Director at Historic Building Consultancy.\n\n16:00-16:25 Kiru Balson + Ian Shaw, Principal Sustainability Consultant + Principal Engineer and Partner at Max Fordham .\n\n16.30-16.40 Q&A\n\n16:45-17:10 Panel Discussion, Adapting to Climate Change:Heritage and its Sustainable Future

X-ALT-DESC;FMTTYPE=text/html:<!DOCTYPE HTML PUBLIC "-//W3C//DTD HTML 3.2//EN">\n<HTML>\n<HEAD>\n<META NAME="Generator" CONTENT="MS Exchange Server version 08.00.0681.000">\n<TITLE></TITLE>\n</HEAD>\n<BODY>\n<!-- Converted from text/rtf format -->\n\nAdapting to Climate Change: Heritage and its Sustainable Future<br /><br />9:00-9:15 Welcome by The Dean of Chester Cathedral<br /><br />9:20-9:40 KEYNOTE Catherine Dewar<br />Historic England Climate Change Programme Director.<br /><br />9:45-10:10 Tony Barton<br />Cathedral Architect, Donald Insall Associates.<br /><br />10:15-10:40 Jane Entwistle, Care Accredited structural and civil engineer and President of the Institute of Structural Engineers.<br /><br />10:40-10:50 Q&A .<br /><br />10:50-11:20 Coffee Break.<br /><br />11:20-11:45 Carbon Co-op<br />Community organization .<br /><br />11:50-12:15 Morwenna Slade, Head of Historic England Climate Change.<br /><br />12.:15-12:30 Q&A<br /><br />12:30-13:30 Lunch<br /><br />13:35 -15:30 Tours<br />Tower and Roof of the Cathedral, and Climate Change Group Workshop.<br /><br />15:35-15:55 Cordula Zeidler Practice Director at Historic Building Consultancy.<br /><br />16:00-16:25 Kiru Balson + Ian Shaw, Principal Sustainability Consultant + Principal Engineer and Partner at Max Fordham .<br /><br />16.30-16.40 Q&A<br /><br />16:45-17:10 Panel Discussion, Adapting to Climate Change:Heritage and its Sustainable Future\n\n</BODY>\n</HTML>

LOCATION:St Werburgh St, Chester CH1 2DY, UK
END:VEVENT

END:VCALENDAR
