BEGIN:VCALENDAR
VERSION:2.0
PRODID:-//hacksw/handcal//NONSGML v1.0//EN
BEGIN:VEVENT
UID:fdde04bc153ab075d00462c859c29b64
DTSTAMP:20260424T191137Z

DTSTART:20230111T090000
DTEND:20230111T160000
SUMMARY:ESC – Investigation of Moisture and its Effects in Traditional Buildings – Principles and Competencies
DESCRIPTION:This course covers the approach and practice in understanding dampness and moisture in buildings from a practical perspective as described in the guide, along with treatment. In summary it will cover:\n\n    The differences between traditionally constructed buildings and newer buildings including the way they perform and should be treated.\n    Ascertaining the age of a building and why it’s important\n    Comparing and contrasting modern and traditional buildings\n    Methods of inspection – issues to look out for\n    Equipment and tools\n    Moisture sources and how to ascertain\n    Moisture movement mechanisms and how to ascertain\n    Understanding the implications of alterations and retrofit and how to ascertain\n    Implications of use and the environment\n    Reporting\n    Legal issues\n\nThe course covers the content of the guidance ‘Investigation of Moisture and its Effects in Traditional Buildings – Principles and Competencies’ a joint position statement agreed between RICS, Historic England, PCA, Cadw, IHBC, SPAB, Historic Environment Scotland and the Northern Ireland Government (Department for Communities Historic Environment Division). It is suitable for everyone that investigates and moisture problems in buildings and this includes surveyors, Retrofit Assessors and those designing and implementing works to existing buildings. Examples will include dwellings and other building types. At the end of the course, participants should have an understanding of the common causes of moisture problems in buildings, the approach to analysis, methods of investigation including the equipment to be used. The guide can be downloaded at the below link, and this describes the course content.\n\n

X-ALT-DESC;FMTTYPE=text/html:<!DOCTYPE HTML PUBLIC "-//W3C//DTD HTML 3.2//EN">\n<HTML>\n<HEAD>\n<META NAME="Generator" CONTENT="MS Exchange Server version 08.00.0681.000">\n<TITLE></TITLE>\n</HEAD>\n<BODY>\n<!-- Converted from text/rtf format -->\n\nThis course covers the approach and practice in understanding dampness and moisture in buildings from a practical perspective as described in the guide, along with treatment. In summary it will cover:<br /><br />    The differences between traditionally constructed buildings and newer buildings including the way they perform and should be treated.<br />    Ascertaining the age of a building and why it’s important<br />    Comparing and contrasting modern and traditional buildings<br />    Methods of inspection – issues to look out for<br />    Equipment and tools<br />    Moisture sources and how to ascertain<br />    Moisture movement mechanisms and how to ascertain<br />    Understanding the implications of alterations and retrofit and how to ascertain<br />    Implications of use and the environment<br />    Reporting<br />    Legal issues<br /><br />The course covers the content of the guidance ‘Investigation of Moisture and its Effects in Traditional Buildings – Principles and Competencies’ a joint position statement agreed between RICS, Historic England, PCA, Cadw, IHBC, SPAB, Historic Environment Scotland and the Northern Ireland Government (Department for Communities Historic Environment Division). It is suitable for everyone that investigates and moisture problems in buildings and this includes surveyors, Retrofit Assessors and those designing and implementing works to existing buildings. Examples will include dwellings and other building types. At the end of the course, participants should have an understanding of the common causes of moisture problems in buildings, the approach to analysis, methods of investigation including the equipment to be used. The guide can be downloaded at the below link, and this describes the course content.<br /><br />\n\n</BODY>\n</HTML>

LOCATION:
END:VEVENT

END:VCALENDAR
