BEGIN:VCALENDAR
VERSION:2.0
PRODID:-//hacksw/handcal//NONSGML v1.0//EN
BEGIN:VEVENT
UID:7712911a60088005cfc594c445419a1a
DTSTAMP:20260424T191137Z

DTSTART:20220420T183000
DTEND:20220420T200000
SUMMARY:IHBC Scotland - A Modern Vernacular? Mass Housing as a Place-Specific Global and Local Heritage
DESCRIPTION:A talk by Miles Glendinning, Professor in Architectural Conservation at the University of Edinburgh and Director of the Scottish Centre for Conservation Studies, about High-Rise Tower blocks and their conservation. This is a precursor to the IHBC Annual School which will be in Aberdeen on 16-19 June, a hybrid in person and online event, as well as forming part of our occasional online CPD series.\n\nIHBC Competencies 1 Philosophy; 3 History.\n\nWeb link for booking/more information. Contact: scotland@ihbc.org.uk for Zoom code in April\n\nOnline platform details – open to all, by Zoom. No charge.\n

X-ALT-DESC;FMTTYPE=text/html:<!DOCTYPE HTML PUBLIC "-//W3C//DTD HTML 3.2//EN">\n<HTML>\n<HEAD>\n<META NAME="Generator" CONTENT="MS Exchange Server version 08.00.0681.000">\n<TITLE></TITLE>\n</HEAD>\n<BODY>\n<!-- Converted from text/rtf format -->\n\nA talk by Miles Glendinning, Professor in Architectural Conservation at the University of Edinburgh and Director of the Scottish Centre for Conservation Studies, about High-Rise Tower blocks and their conservation. This is a precursor to the IHBC Annual School which will be in Aberdeen on 16-19 June, a hybrid in person and online event, as well as forming part of our occasional online CPD series.<br /><br />IHBC Competencies 1 Philosophy; 3 History.<br /><br />Web link for booking/more information. Contact: scotland@ihbc.org.uk for Zoom code in April<br /><br />Online platform details – open to all, by Zoom. No charge.<br />\n\n</BODY>\n</HTML>

LOCATION:
END:VEVENT

END:VCALENDAR
