BEGIN:VCALENDAR
VERSION:2.0
PRODID:-//hacksw/handcal//NONSGML v1.0//EN
BEGIN:VEVENT
UID:23abc103df0544b5a88865f6230312d5
DTSTAMP:20260424T201911Z

DTSTART:20240528T130000
DTEND:20240528T140000
SUMMARY:Technical Tuesdays: Technical Conservation Webinars
DESCRIPTION:Join us to learn more about managing the impacts of climate change on the historic environment and the work Historic England has been doing on understanding climate hazards. This webinar will introduce the results of two recent projects on climate change hazards that cause damage or loss for heritage, such as sea level rise, heat waves, and soil heave. The aim of both projects was to define these hazards and their data sources for heritage. This webinar will be of particular interest to local authority historic environment teams and those managing the impacts of climate change on heritage more generally.\n\nSpeaker - Joanne Williams, Helen Thomas, Scott Orr, Phil Carlisle\n\nJoanne Williams is a Conservation Accredited Building Surveyor working in the Historic Building Climate Change Adaptation team in Technical Conservation. She specialises in conservation, regulations and adaptation of historic buildings to climate change, with a particular focus on flooding. \n\nHelen Thomas is a collaborative doctoral student between Historic England and the UCL Institute for Sustainable Heritage. Helen is part of the research group Heritage Environmental Risk and Data Analytics (HERADA) at UCL and is an affiliate member of the UK Centre for Moisture in Buildings.\n\nDr Scott Allan Orr is a lecturer at the UCL Institute for Sustainable Heritage. He leads the Heritage, Environmental Risk and Data Analytics (HERADA) research group.\n\nPhil Carlisle is a Senior Data Standards Specialist at Historic England. He advises on the use of data standards and controlled vocabularies in recording systems and is the chair of the FISH Terminology Working Group. 

X-ALT-DESC;FMTTYPE=text/html:<!DOCTYPE HTML PUBLIC "-//W3C//DTD HTML 3.2//EN">\n<HTML>\n<HEAD>\n<META NAME="Generator" CONTENT="MS Exchange Server version 08.00.0681.000">\n<TITLE></TITLE>\n</HEAD>\n<BODY>\n<!-- Converted from text/rtf format -->\n\nJoin us to learn more about managing the impacts of climate change on the historic environment and the work Historic England has been doing on understanding climate hazards. This webinar will introduce the results of two recent projects on climate change hazards that cause damage or loss for heritage, such as sea level rise, heat waves, and soil heave. The aim of both projects was to define these hazards and their data sources for heritage. This webinar will be of particular interest to local authority historic environment teams and those managing the impacts of climate change on heritage more generally.<br /><br />Speaker - Joanne Williams, Helen Thomas, Scott Orr, Phil Carlisle<br /><br />Joanne Williams is a Conservation Accredited Building Surveyor working in the Historic Building Climate Change Adaptation team in Technical Conservation. She specialises in conservation, regulations and adaptation of historic buildings to climate change, with a particular focus on flooding. <br /><br />Helen Thomas is a collaborative doctoral student between Historic England and the UCL Institute for Sustainable Heritage. Helen is part of the research group Heritage Environmental Risk and Data Analytics (HERADA) at UCL and is an affiliate member of the UK Centre for Moisture in Buildings.<br /><br />Dr Scott Allan Orr is a lecturer at the UCL Institute for Sustainable Heritage. He leads the Heritage, Environmental Risk and Data Analytics (HERADA) research group.<br /><br />Phil Carlisle is a Senior Data Standards Specialist at Historic England. He advises on the use of data standards and controlled vocabularies in recording systems and is the chair of the FISH Terminology Working Group. \n\n</BODY>\n</HTML>

LOCATION:
END:VEVENT

END:VCALENDAR
