BEGIN:VCALENDAR
VERSION:2.0
PRODID:-//hacksw/handcal//NONSGML v1.0//EN
BEGIN:VEVENT
UID:ed6777c007749c784bc956a0a2203e57
DTSTAMP:20260424T202716Z

DTSTART:20240522T180000
DTEND:20240522T180000
SUMMARY:Tour of St Marylebone Parish Church
DESCRIPTION:Join the Young Georgians on a private special access tour of St Marylebone Parish Church, designed by Thomas Hardwick in 1813-17. Guests will also (weather depending) be allowed to inspect the roof and advised to dress appropriately. A drink and donation to the church is included in the ticket price.

X-ALT-DESC;FMTTYPE=text/html:<!DOCTYPE HTML PUBLIC "-//W3C//DTD HTML 3.2//EN">\n<HTML>\n<HEAD>\n<META NAME="Generator" CONTENT="MS Exchange Server version 08.00.0681.000">\n<TITLE></TITLE>\n</HEAD>\n<BODY>\n<!-- Converted from text/rtf format -->\n\nJoin the Young Georgians on a private special access tour of St Marylebone Parish Church, designed by Thomas Hardwick in 1813-17. Guests will also (weather depending) be allowed to inspect the roof and advised to dress appropriately. A drink and donation to the church is included in the ticket price.\n\n</BODY>\n</HTML>

LOCATION:17 Marylebone Rd, London NW1 5LT, UK
END:VEVENT

END:VCALENDAR
