BEGIN:VCALENDAR
VERSION:2.0
PRODID:-//hacksw/handcal//NONSGML v1.0//EN
BEGIN:VEVENT
UID:bf3f20e20cc53129e40114d5357896e8
DTSTAMP:20260424T190510Z

DTSTART:20240514T130000
DTEND:20240603T163000
SUMMARY:RIBA Advanced Conservation Course - Spring 2024
DESCRIPTION:The RIBA Advanced Conservation Course is an important step in developing your specialism in conservation. \nThe RIBA Conservation Accreditation Scheme is based on progressing through three levels from Conservation Registrant, implying awareness of the subject, to the formal accreditation levels of Conservation Architect and finally Specialist Conservation Architect demonstrating expertise. \n\nThe purpose of this 4-module series is to support this progression by focusing on the conservation process and elements and materials not covered in the introductory 6 module Conservation Series. The modules are based once again on the internationally recognised ICOMOS Guidelines for Education and Training.\n\nAttending the series will help you develop critical awareness and knowledge of architectural conservation procedures in order to apply theory in practice, as well as detailed analysis of structure, construction and services during the Technical Design stage\n\nThe course’s emphasis is conservation in practice, presenting fresh and diverse projects and case studies that showcase the work of small and emerging practices and larger well-established practices to demonstrate the full range of core skills needed by conservation architects including the growing importance of the conservation of C20th buildings.

X-ALT-DESC;FMTTYPE=text/html:<!DOCTYPE HTML PUBLIC "-//W3C//DTD HTML 3.2//EN">\n<HTML>\n<HEAD>\n<META NAME="Generator" CONTENT="MS Exchange Server version 08.00.0681.000">\n<TITLE></TITLE>\n</HEAD>\n<BODY>\n<!-- Converted from text/rtf format -->\n\nThe RIBA Advanced Conservation Course is an important step in developing your specialism in conservation. <br />The RIBA Conservation Accreditation Scheme is based on progressing through three levels from Conservation Registrant, implying awareness of the subject, to the formal accreditation levels of Conservation Architect and finally Specialist Conservation Architect demonstrating expertise. <br /><br />The purpose of this 4-module series is to support this progression by focusing on the conservation process and elements and materials not covered in the introductory 6 module Conservation Series. The modules are based once again on the internationally recognised ICOMOS Guidelines for Education and Training.<br /><br />Attending the series will help you develop critical awareness and knowledge of architectural conservation procedures in order to apply theory in practice, as well as detailed analysis of structure, construction and services during the Technical Design stage<br /><br />The course’s emphasis is conservation in practice, presenting fresh and diverse projects and case studies that showcase the work of small and emerging practices and larger well-established practices to demonstrate the full range of core skills needed by conservation architects including the growing importance of the conservation of C20th buildings.\n\n</BODY>\n</HTML>

LOCATION:
END:VEVENT

END:VCALENDAR
