BEGIN:VCALENDAR
VERSION:2.0
PRODID:-//hacksw/handcal//NONSGML v1.0//EN
BEGIN:VEVENT
UID:72ef513b4b09845f90025aca5d2e1744
DTSTAMP:20260424T202558Z

DTSTART:20240511T100000
DTEND:20240511T100000
SUMMARY:Canolfan Tywi Centre – Sustainable & Traditional Buildings Fair
DESCRIPTION:The Sustainable and Traditional Buildings Fair is taking place at the Tywi Centre. Experts, suppliers and contractors will come together to provide essential insights and solutions for making homes more sustainable. There will be experts on hand with a great range of knowledge about traditional building repair and maintenance, energy efficiency, ecological building materials, training and education and listed buildings.\n\nFrom 10 am, the event will bring together experts, suppliers, and contractors to share crucial insights and solutions for enhancing home sustainability. The fair is a free ticketed event designed to simplify the process of home improvements and assist attendees in transforming their homes for a more eco-friendly future. Our Sustainable and Traditional Buildings Fair is set to be packed with interesting talks, demonstrations and entertainment!\n\n10:30am- Orchard and Cider Tour with Dinefwr Orchardeers\n11:30am – Historic Buildings, heritage crafts and the narratives of place- Presented by Dr Alex Langlands\n12:00pm - Orchard and Cider Tour with Dinefwr Orchardeers\n12:30pm - Building with Earth: a sustainable past, present & future- Presented by  Rowland Keeble\n1:30pm - Building Legacies: Lessons of sustainability from Notre Dame de Paris presented by Mike Dennis\n2:00pm- Orchard and Cider Tour with Dinefwr Orchardeers\n2:30pm - Developing a Green Building: New Velindre Cancer Hospital Design- presented by Phil Roberts\n3:30pm - Energy Efficiency- a whole house approach- presented by Nigel Gervis\n\nAll day - Demonstrations and Trade Stands\n\nAlongside our programme of insightful talks, the Sustainable and Traditional buildings fair will provide an immersive showcase of advice and live demonstrations, including stonemasonry, lime plastering, traditional hand-forged metalwork, thatching, traditional carpentry and leadwork. Fair attendees can also look forward to gaining insights into Sustainable Construction and Energy Generation from prominent specialist companies such as Birds’ Hill Rural Renewables, Celtic Sustainables, Sustainable Traditional Building Alliance (STBA), Green Skills Academy at Coleg Sir Gar, Wool Insulation Wales, EBUKI, Strawbale UK, Construction Wales Innovation Centre, Wienerberger, Vivus Solutions Ltd, and Dinefwr Orcharders. These leading organisations will make sustainable practices more accessible to homeowners within their respective fields.

X-ALT-DESC;FMTTYPE=text/html:<!DOCTYPE HTML PUBLIC "-//W3C//DTD HTML 3.2//EN">\n<HTML>\n<HEAD>\n<META NAME="Generator" CONTENT="MS Exchange Server version 08.00.0681.000">\n<TITLE></TITLE>\n</HEAD>\n<BODY>\n<!-- Converted from text/rtf format -->\n\nThe Sustainable and Traditional Buildings Fair is taking place at the Tywi Centre. Experts, suppliers and contractors will come together to provide essential insights and solutions for making homes more sustainable. There will be experts on hand with a great range of knowledge about traditional building repair and maintenance, energy efficiency, ecological building materials, training and education and listed buildings.<br /><br />From 10 am, the event will bring together experts, suppliers, and contractors to share crucial insights and solutions for enhancing home sustainability. The fair is a free ticketed event designed to simplify the process of home improvements and assist attendees in transforming their homes for a more eco-friendly future. Our Sustainable and Traditional Buildings Fair is set to be packed with interesting talks, demonstrations and entertainment!<br /><br />10:30am- Orchard and Cider Tour with Dinefwr Orchardeers<br />11:30am – Historic Buildings, heritage crafts and the narratives of place- Presented by Dr Alex Langlands<br />12:00pm - Orchard and Cider Tour with Dinefwr Orchardeers<br />12:30pm - Building with Earth: a sustainable past, present & future- Presented by  Rowland Keeble<br />1:30pm - Building Legacies: Lessons of sustainability from Notre Dame de Paris presented by Mike Dennis<br />2:00pm- Orchard and Cider Tour with Dinefwr Orchardeers<br />2:30pm - Developing a Green Building: New Velindre Cancer Hospital Design- presented by Phil Roberts<br />3:30pm - Energy Efficiency- a whole house approach- presented by Nigel Gervis<br /><br />All day - Demonstrations and Trade Stands<br /><br />Alongside our programme of insightful talks, the Sustainable and Traditional buildings fair will provide an immersive showcase of advice and live demonstrations, including stonemasonry, lime plastering, traditional hand-forged metalwork, thatching, traditional carpentry and leadwork. Fair attendees can also look forward to gaining insights into Sustainable Construction and Energy Generation from prominent specialist companies such as Birds’ Hill Rural Renewables, Celtic Sustainables, Sustainable Traditional Building Alliance (STBA), Green Skills Academy at Coleg Sir Gar, Wool Insulation Wales, EBUKI, Strawbale UK, Construction Wales Innovation Centre, Wienerberger, Vivus Solutions Ltd, and Dinefwr Orcharders. These leading organisations will make sustainable practices more accessible to homeowners within their respective fields.\n\n</BODY>\n</HTML>

LOCATION:Tywi Centre Dinefwr Farm, Llandeilo SA19 6RT, UK
END:VEVENT

END:VCALENDAR
