BEGIN:VCALENDAR
VERSION:2.0
PRODID:-//hacksw/handcal//NONSGML v1.0//EN
BEGIN:VEVENT
UID:464e65d5827678000f7a4e63fbf2ec02
DTSTAMP:20260424T190846Z

DTSTART:20240509T000000
DTEND:20240509T000000
SUMMARY:CIOB The Future of Heritage Conservation Annual Conference
DESCRIPTION:Each year the annual CIOB Conference addresses key topics affecting the heritage sector.\n\nThe CIOB’s annual Heritage conference in partnership with English Heritage, brings you the latest in conservation, redevelopment, and expert thought leadership, and addresses key topics affecting the heritage sector.\n\nProfessionals working in the conservation and heritage sector of the built environment requires specialist skills and knowledge, and for over 15 years this conference, has discussed, challenged, and lead the way on this important topic.\n\nThe conference traditionally welcomes a variety of attendees, and comprises talks, discussion panels and case study presentations with plenty of opportunity for delegates in the audience to participate in discussions. Conference refreshments are served in the exhibitor hall with the opportunity to network with both delegates and exhibitors alike.\n\nArrival and registration opens at 8.40am. \n\nEvents Fees\n\n- CIOB Member *Excluding VAT £199.00\n- Non Member *Excluding VAT £229.00\n- Ticket Bundle Buy 4, get 5th free *Excluding VAT £796.00\n- Ticket Bundle Buy 2 get one free *Excluding VAT £497.50\n- CIOB Assist Optional Donation £5.00\n

X-ALT-DESC;FMTTYPE=text/html:<!DOCTYPE HTML PUBLIC "-//W3C//DTD HTML 3.2//EN">\n<HTML>\n<HEAD>\n<META NAME="Generator" CONTENT="MS Exchange Server version 08.00.0681.000">\n<TITLE></TITLE>\n</HEAD>\n<BODY>\n<!-- Converted from text/rtf format -->\n\nEach year the annual CIOB Conference addresses key topics affecting the heritage sector.<br /><br />The CIOB’s annual Heritage conference in partnership with English Heritage, brings you the latest in conservation, redevelopment, and expert thought leadership, and addresses key topics affecting the heritage sector.<br /><br />Professionals working in the conservation and heritage sector of the built environment requires specialist skills and knowledge, and for over 15 years this conference, has discussed, challenged, and lead the way on this important topic.<br /><br />The conference traditionally welcomes a variety of attendees, and comprises talks, discussion panels and case study presentations with plenty of opportunity for delegates in the audience to participate in discussions. Conference refreshments are served in the exhibitor hall with the opportunity to network with both delegates and exhibitors alike.<br /><br />Arrival and registration opens at 8.40am. <br /><br />Events Fees<br /><br />- CIOB Member *Excluding VAT £199.00<br />- Non Member *Excluding VAT £229.00<br />- Ticket Bundle Buy 4, get 5th free *Excluding VAT £796.00<br />- Ticket Bundle Buy 2 get one free *Excluding VAT £497.50<br />- CIOB Assist Optional Donation £5.00<br />\n\n</BODY>\n</HTML>

LOCATION:28 Great Russell St, London WC1B 3LS, UK
END:VEVENT

END:VCALENDAR
