BEGIN:VCALENDAR
VERSION:2.0
PRODID:-//hacksw/handcal//NONSGML v1.0//EN
BEGIN:VEVENT
UID:57d7fc4f81fb72444e15b98132748cec
DTSTAMP:20260424T190345Z

DTSTART:20230131T093000
DTEND:20230201T163000
SUMMARY:Rubble Wall Building
DESCRIPTION:This practical two day course will equip you to set out, construct and finish a traditional rubble wall using a variety of building stones and traditional lime mortars.\n\nThis course covers the importance of laying the stones correctly and the use of pinning stones will be emphasised so that no more than 30% of the volume of the wall is mortar!\n\nThe content of this workshop provides part of the underpinning knowledge required for assessment of National Unit H8 WV 46 ‘Consolidation and Repair of Masonry Structures’.\n\nDownload full course description (PDF)\nCourse suitability\n\n    This practical course is aimed at masonry contractors and those undertaking repair works to traditional masonry structures.\n    You should be reasonably fit and able to lift 25kg safely.\n\nWe are always happy to help learners choose the right course. Please click here to contact us or telephone 01383 872722 if you would like to discuss which course is suitable for you or your employees.\nLearning Outcomes\n\n    Understanding the construction of mass walls;\n    Understanding traditional building technology;\n    Understanding the importance of laying masonry units correctly with pinning stones to effect sound and weatherproof wall construction;\n    Understanding the range of binders, sands and aggregates for making traditional mortars including ‘hot’ lime mortars;\n    Ability to undertake accurate mixing of mortars for repeatability and cost effective work;\n    Understanding the setting characteristics of lime mortars\n\nCost\n    £310.00 + VAT\n    (£372.00 incl VAT)

X-ALT-DESC;FMTTYPE=text/html:<!DOCTYPE HTML PUBLIC "-//W3C//DTD HTML 3.2//EN">\n<HTML>\n<HEAD>\n<META NAME="Generator" CONTENT="MS Exchange Server version 08.00.0681.000">\n<TITLE></TITLE>\n</HEAD>\n<BODY>\n<!-- Converted from text/rtf format -->\n\nThis practical two day course will equip you to set out, construct and finish a traditional rubble wall using a variety of building stones and traditional lime mortars.<br /><br />This course covers the importance of laying the stones correctly and the use of pinning stones will be emphasised so that no more than 30% of the volume of the wall is mortar!<br /><br />The content of this workshop provides part of the underpinning knowledge required for assessment of National Unit H8 WV 46 ‘Consolidation and Repair of Masonry Structures’.<br /><br />Download full course description (PDF)<br />Course suitability<br /><br />    This practical course is aimed at masonry contractors and those undertaking repair works to traditional masonry structures.<br />    You should be reasonably fit and able to lift 25kg safely.<br /><br />We are always happy to help learners choose the right course. Please click here to contact us or telephone 01383 872722 if you would like to discuss which course is suitable for you or your employees.<br />Learning Outcomes<br /><br />    Understanding the construction of mass walls;<br />    Understanding traditional building technology;<br />    Understanding the importance of laying masonry units correctly with pinning stones to effect sound and weatherproof wall construction;<br />    Understanding the range of binders, sands and aggregates for making traditional mortars including ‘hot’ lime mortars;<br />    Ability to undertake accurate mixing of mortars for repeatability and cost effective work;<br />    Understanding the setting characteristics of lime mortars<br /><br />Cost<br />    £310.00 + VAT<br />    (£372.00 incl VAT)\n\n</BODY>\n</HTML>

LOCATION:2 Rocks Rd, Charlestown, Dunfermline KY11 3EN, UK
END:VEVENT

END:VCALENDAR
