BEGIN:VCALENDAR
VERSION:2.0
PRODID:-//hacksw/handcal//NONSGML v1.0//EN
BEGIN:VEVENT
UID:dbe0147187f4799fcd8a103181248912
DTSTAMP:20260424T202308Z

DTSTART:20230324T090000
DTEND:20230324T163000
SUMMARY:Surveying Timber Framed Buildings
DESCRIPTION:How to survey and report upon historic timber framed buildings. Learn about how timber framed buildings are formed, what are the typical defects and problems found, and how to report to and advise clients.

X-ALT-DESC;FMTTYPE=text/html:<!DOCTYPE HTML PUBLIC "-//W3C//DTD HTML 3.2//EN">\n<HTML>\n<HEAD>\n<META NAME="Generator" CONTENT="MS Exchange Server version 08.00.0681.000">\n<TITLE></TITLE>\n</HEAD>\n<BODY>\n<!-- Converted from text/rtf format -->\n\nHow to survey and report upon historic timber framed buildings. Learn about how timber framed buildings are formed, what are the typical defects and problems found, and how to report to and advise clients.\n\n</BODY>\n</HTML>

LOCATION:Market Place, Lavenham, Sudbury CO10 9QZ, UK
END:VEVENT

END:VCALENDAR
