BEGIN:VCALENDAR
VERSION:2.0
PRODID:-//hacksw/handcal//NONSGML v1.0//EN
BEGIN:VEVENT
UID:6b618682edcf277dd8cad3350523a29e
DTSTAMP:20260424T191534Z

DTSTART:20220425T230000
DTEND:20220427T225959
SUMMARY:Level 3 Award, Energy Efficiency in Older and Traditional Buildings
DESCRIPTION:This two day course on energy efficiency measures for older and traditional buildings is accredited by the National Open College Network (NOCN).\n\nThis Level 3 qualification provides an overview of older and traditional (pre-1919) buildings, the range of energy efficiency measures available, how to evaluate their suitability and how to recommend their installation.\n\nThe course will take place in-person at our dedicated conservation centre. Our experts will guide learners through three modules which will equip them to:\n\n    recognise the age, nature, and characteristics of older and traditional buildings\n    evaluate the appropriate options for introducing energy efficiency measures to older and traditional buildings\n    make recommendations and give advice on introducing energy efficiency measures to older and traditional buildings\n\nThe course will last two full days, 9am until 5pm. Full programme of course activity to follow.\nWho the course is for\n\nThis course is principally designed for persons who are aged 18 years of age or older and who already have a background and experience in the construction industry. This includes the following occupational areas:\n\n    experienced craftspeople and general building operatives\n    proprietors of small building companies who have experience of working on various aspects of traditional (pre-1919) buildings, or plan to undertake this type of work\n    site managers and supervisors involved in managing contracts for the energy efficiency and retrofit of traditional (pre-1919) buildings\n    estimators, planners, architects, designers\n    installers of Solid Wall Insulation systems (Internal & External Wall Insulation)\n    installers of Passive Fire Protection measures\n    Architects, Surveyors and other building professionals\n    Retrofit Assessors and Advisors\n    Retrofit Co-ordinators\n    Conservation Officers\n    Building Control Officers\n    Domestic Energy Assessors\n    those providing advice in retrofit of traditional buildings\n\nLearners must demonstrate proof of knowledge and experience in this occupational area, including energy efficiency measures, to participate in this two day course.\n\nOnce you’ve booked your place on the course, you will be issued a Knowledge & Skills Scan pro-forma which you must complete and return to the training provider ahead of the training course start date.\n\nThe document will be used to determine your current level of understanding and experience of working on older buildings in relationship to the requirements of the course. Should you not meet the requirements, your offer of a place on the course will be withdrawn and a full refund will be issued.\n\nPlease also note that should you be accepted onto the course your Knowledge & Skills Scan will be retained by the trainer/assessor for the purpose of quality assurance checks by the Awarding Body (NOCN).

X-ALT-DESC;FMTTYPE=text/html:<!DOCTYPE HTML PUBLIC "-//W3C//DTD HTML 3.2//EN">\n<HTML>\n<HEAD>\n<META NAME="Generator" CONTENT="MS Exchange Server version 08.00.0681.000">\n<TITLE></TITLE>\n</HEAD>\n<BODY>\n<!-- Converted from text/rtf format -->\n\nThis two day course on energy efficiency measures for older and traditional buildings is accredited by the National Open College Network (NOCN).<br /><br />This Level 3 qualification provides an overview of older and traditional (pre-1919) buildings, the range of energy efficiency measures available, how to evaluate their suitability and how to recommend their installation.<br /><br />The course will take place in-person at our dedicated conservation centre. Our experts will guide learners through three modules which will equip them to:<br /><br />    recognise the age, nature, and characteristics of older and traditional buildings<br />    evaluate the appropriate options for introducing energy efficiency measures to older and traditional buildings<br />    make recommendations and give advice on introducing energy efficiency measures to older and traditional buildings<br /><br />The course will last two full days, 9am until 5pm. Full programme of course activity to follow.<br />Who the course is for<br /><br />This course is principally designed for persons who are aged 18 years of age or older and who already have a background and experience in the construction industry. This includes the following occupational areas:<br /><br />    experienced craftspeople and general building operatives<br />    proprietors of small building companies who have experience of working on various aspects of traditional (pre-1919) buildings, or plan to undertake this type of work<br />    site managers and supervisors involved in managing contracts for the energy efficiency and retrofit of traditional (pre-1919) buildings<br />    estimators, planners, architects, designers<br />    installers of Solid Wall Insulation systems (Internal & External Wall Insulation)<br />    installers of Passive Fire Protection measures<br />    Architects, Surveyors and other building professionals<br />    Retrofit Assessors and Advisors<br />    Retrofit Co-ordinators<br />    Conservation Officers<br />    Building Control Officers<br />    Domestic Energy Assessors<br />    those providing advice in retrofit of traditional buildings<br /><br />Learners must demonstrate proof of knowledge and experience in this occupational area, including energy efficiency measures, to participate in this two day course.<br /><br />Once you’ve booked your place on the course, you will be issued a Knowledge & Skills Scan pro-forma which you must complete and return to the training provider ahead of the training course start date.<br /><br />The document will be used to determine your current level of understanding and experience of working on older buildings in relationship to the requirements of the course. Should you not meet the requirements, your offer of a place on the course will be withdrawn and a full refund will be issued.<br /><br />Please also note that should you be accepted onto the course your Knowledge & Skills Scan will be retained by the trainer/assessor for the purpose of quality assurance checks by the Awarding Body (NOCN).\n\n</BODY>\n</HTML>

LOCATION:Forthside Way, Stirling FK8 1QZ, UK
END:VEVENT

END:VCALENDAR
