BEGIN:VCALENDAR
VERSION:2.0
PRODID:-//hacksw/handcal//NONSGML v1.0//EN
BEGIN:VEVENT
UID:ab6eb74c0fe65b9c173a1a03d4abe589
DTSTAMP:20260424T190912Z

DTSTART:20211125T090000
DTEND:20211126T190000
SUMMARY:Energy Efficiency and Retrofit of Traditional (pre-1919) Buildings Course
DESCRIPTION:This 2-day Level 3 Award will be delivered online and will provide participants with the knowledge and understanding of the installation of energy efficiency measures suitable for older traditional buildings.

X-ALT-DESC;FMTTYPE=text/html:<!DOCTYPE HTML PUBLIC "-//W3C//DTD HTML 3.2//EN">\n<HTML>\n<HEAD>\n<META NAME="Generator" CONTENT="MS Exchange Server version 08.00.0681.000">\n<TITLE></TITLE>\n</HEAD>\n<BODY>\n<!-- Converted from text/rtf format -->\n\nThis 2-day Level 3 Award will be delivered online and will provide participants with the knowledge and understanding of the installation of energy efficiency measures suitable for older traditional buildings.\n\n</BODY>\n</HTML>

LOCATION:
END:VEVENT

END:VCALENDAR
